BEGIN:VCALENDAR
VERSION:2.0
PRODID:-//Our Lady of Mercy - ECPv6.15.15//NONSGML v1.0//EN
CALSCALE:GREGORIAN
METHOD:PUBLISH
X-WR-CALNAME:Our Lady of Mercy
X-ORIGINAL-URL:https://www.ourladyofmercynl.com
X-WR-CALDESC:Events for Our Lady of Mercy
REFRESH-INTERVAL;VALUE=DURATION:PT1H
X-Robots-Tag:noindex
X-PUBLISHED-TTL:PT1H
BEGIN:VTIMEZONE
TZID:UTC
BEGIN:STANDARD
TZOFFSETFROM:+0000
TZOFFSETTO:+0000
TZNAME:UTC
DTSTART:20240101T000000
END:STANDARD
END:VTIMEZONE
BEGIN:VEVENT
DTSTART;TZID=UTC:20251003T160000
DTEND;TZID=UTC:20251003T170000
DTSTAMP:20260423T083631
CREATED:20250920T005206Z
LAST-MODIFIED:20250920T005206Z
UID:9793-1759507200-1759510800@www.ourladyofmercynl.com
SUMMARY:Blessing of the Animals
DESCRIPTION:🐶🐱🐰 Bring your furry (or feathered!) friends for a special Blessing of the Animals with Father Joseph. \n📅 Date: Friday\, October 3\, 2025🕓 Time: 4:00 PM (note the new time — after school so children can attend!)📍 Location: Our Lady of Mercy Church\, Port au Port West \nAll are welcome! Please ensure animals are on a leash or in a cage for everyone’s safety. 💙 \nLet’s celebrate the joy and companionship our pets bring to our lives. 🐾✨
URL:https://www.ourladyofmercynl.com/event/blessing-of-the-animals/
LOCATION:Our Lady of Mercy\, 101 Main Street\, Aguathuna\, NL\, A0N 1A0\, Canada
ATTACH;FMTTYPE=image/jpeg:https://www.ourladyofmercynl.com/wp-content/uploads/2025/09/550195845_1083887947287586_3996883543560119565_n.jpg
END:VEVENT
BEGIN:VEVENT
DTSTART;TZID=UTC:20251017T190000
DTEND;TZID=UTC:20251017T233000
DTSTAMP:20260423T083631
CREATED:20250920T004554Z
LAST-MODIFIED:20250920T004554Z
UID:9790-1760727600-1760743800@www.ourladyofmercynl.com
SUMMARY:Tribute to John Prine
DESCRIPTION:🎵 A Musical Tribute to John Prine 🎵 \nJoin us for a heartfelt evening of music and memories as we celebrate the songs of the legendary John Prine. \n📅 Date: Friday\, October 17\, 2025🕗 Time: 8:00 PM (Doors open 7:00 PM)📍 Location: Our Lady of Mercy Event Hall\, Port au Port West \n✨ Featuring incredible performances by: \n\n\nTammy Dutcher \n\n\nDonovan Conran \n\n\nBill Rotchford \n\n\nMike & Jill Benoit \n\n\n🎟️ Tickets available at Debbie’s Video & Elaine’s Variety.Reserve by email transfer: ourladyofmercycc@gmail.com💵 Admission: $10 advance | $15 at the door \nAll proceeds In Benefit of Our Lady of Mercy 💙
URL:https://www.ourladyofmercynl.com/event/tribute-to-john-prine/
LOCATION:Our Lady of Mercy\, 101 Main Street\, Aguathuna\, NL\, A0N 1A0\, Canada
ATTACH;FMTTYPE=image/jpeg:https://www.ourladyofmercynl.com/wp-content/uploads/2025/09/548714528_1086512153691832_8029112955102305902_n.jpg
END:VEVENT
BEGIN:VEVENT
DTSTART;TZID=UTC:20251031T210000
DTEND;TZID=UTC:20251031T233000
DTSTAMP:20260423T083631
CREATED:20250914T152226Z
LAST-MODIFIED:20250914T152226Z
UID:9787-1761944400-1761953400@www.ourladyofmercynl.com
SUMMARY:Halloween Costume Party
DESCRIPTION:🎃👻 It’s time to get spooky on the Port au Port! Join us at the OLMCC Event Hall Halloween Costume Party on Friday\, Oct. 31. DJ Mike will be spinning the tunes starting at 9 PM — so get ready to dance the night away! 💃🕺 \n✨ Admission just $5✨ Drinks only $5✨ Costumes optional (but the more creative\, the better!) \nGather your friends and celebrate Halloween\, Newfoundland-style! 🍂🎶 \n#NewfoundlandEvents #PortauPortParty #HalloweenNL #ExploreNL
URL:https://www.ourladyofmercynl.com/event/halloween-costume-party/
LOCATION:Our Lady of Mercy\, 101 Main Street\, Aguathuna\, NL\, A0N 1A0\, Canada
ATTACH;FMTTYPE=image/jpeg:https://www.ourladyofmercynl.com/wp-content/uploads/2025/09/546400471_1079909627685418_3382262385296846290_n.jpg
END:VEVENT
END:VCALENDAR