BEGIN:VCALENDAR
VERSION:2.0
PRODID:-//Our Lady of Mercy - ECPv6.15.15//NONSGML v1.0//EN
CALSCALE:GREGORIAN
METHOD:PUBLISH
X-ORIGINAL-URL:https://www.ourladyofmercynl.com
X-WR-CALDESC:Events for Our Lady of Mercy
REFRESH-INTERVAL;VALUE=DURATION:PT1H
X-Robots-Tag:noindex
X-PUBLISHED-TTL:PT1H
BEGIN:VTIMEZONE
TZID:UTC
BEGIN:STANDARD
TZOFFSETFROM:+0000
TZOFFSETTO:+0000
TZNAME:UTC
DTSTART:20240101T000000
END:STANDARD
END:VTIMEZONE
BEGIN:VEVENT
DTSTART;TZID=UTC:20250705T200000
DTEND;TZID=UTC:20250705T220000
DTSTAMP:20260421T084025
CREATED:20250630T174217Z
LAST-MODIFIED:20250630T174217Z
UID:9720-1751745600-1751752800@www.ourladyofmercynl.com
SUMMARY:Les Benoits Trio
DESCRIPTION:🎶✨ WHAT A TIME! 🎶✨Join us for an unforgettable night of live music with Les Benoits Trio featuring Doug Benoit\, Devon Benoit & Donovan Conan! \n🗓 Saturday\, July 5th🕗 8:00 PM📍 OLMCC Event Hall\, Port au Port West🎟 Tickets: $20 \nCome out and enjoy an evening of incredible talent\, lively tunes\, and good company right here in the heart of our community. Whether you’re a longtime fan or a newcomer\, this is one show you don’t want to miss!
URL:https://www.ourladyofmercynl.com/event/les-benoits-trio/
LOCATION:Our Lady of Mercy\, 101 Main Street\, Aguathuna\, NL\, A0N 1A0\, Canada
ATTACH;FMTTYPE=image/jpeg:https://www.ourladyofmercynl.com/wp-content/uploads/2025/06/508736208_1013292711013777_1989116590010487730_n.jpg
END:VEVENT
BEGIN:VEVENT
DTSTART;TZID=UTC:20250718T140000
DTEND;TZID=UTC:20250718T150000
DTSTAMP:20260421T084025
CREATED:20250716T223859Z
LAST-MODIFIED:20250716T223859Z
UID:9724-1752847200-1752850800@www.ourladyofmercynl.com
SUMMARY:Music in the Church
DESCRIPTION:
URL:https://www.ourladyofmercynl.com/event/music-in-the-church/
LOCATION:Our Lady of Mercy\, 101 Main Street\, Aguathuna\, NL\, A0N 1A0\, Canada
ATTACH;FMTTYPE=image/jpeg:https://www.ourladyofmercynl.com/wp-content/uploads/2025/07/July-18-scaled.jpg
END:VEVENT
BEGIN:VEVENT
DTSTART;TZID=UTC:20250721T140000
DTEND;TZID=UTC:20250721T150000
DTSTAMP:20260421T084026
CREATED:20250716T224019Z
LAST-MODIFIED:20250716T224019Z
UID:9727-1753106400-1753110000@www.ourladyofmercynl.com
SUMMARY:Music in the Church
DESCRIPTION:
URL:https://www.ourladyofmercynl.com/event/music-in-the-church-2/
LOCATION:Our Lady of Mercy\, 101 Main Street\, Aguathuna\, NL\, A0N 1A0\, Canada
ATTACH;FMTTYPE=image/jpeg:https://www.ourladyofmercynl.com/wp-content/uploads/2025/07/July-21-scaled.jpg
END:VEVENT
BEGIN:VEVENT
DTSTART;TZID=UTC:20250725T140000
DTEND;TZID=UTC:20250725T150000
DTSTAMP:20260421T084026
CREATED:20250716T224140Z
LAST-MODIFIED:20250716T224140Z
UID:9730-1753452000-1753455600@www.ourladyofmercynl.com
SUMMARY:Music in the Church
DESCRIPTION:
URL:https://www.ourladyofmercynl.com/event/music-in-the-church-3/
LOCATION:Our Lady of Mercy\, 101 Main Street\, Aguathuna\, NL\, A0N 1A0\, Canada
ATTACH;FMTTYPE=image/jpeg:https://www.ourladyofmercynl.com/wp-content/uploads/2025/07/July-25-scaled.jpg
END:VEVENT
BEGIN:VEVENT
DTSTART;TZID=UTC:20250728T140000
DTEND;TZID=UTC:20250728T150000
DTSTAMP:20260421T084026
CREATED:20250727T132145Z
LAST-MODIFIED:20250727T132145Z
UID:9739-1753711200-1753714800@www.ourladyofmercynl.com
SUMMARY:Music in the Church
DESCRIPTION:
URL:https://www.ourladyofmercynl.com/event/music-in-the-church-4/
LOCATION:Our Lady of Mercy\, 101 Main Street\, Aguathuna\, NL\, A0N 1A0\, Canada
ATTACH;FMTTYPE=image/jpeg:https://www.ourladyofmercynl.com/wp-content/uploads/2025/07/july-28-scaled.jpg
END:VEVENT
BEGIN:VEVENT
DTSTART;TZID=UTC:20250730T140000
DTEND;TZID=UTC:20250730T150000
DTSTAMP:20260421T084026
CREATED:20250727T132306Z
LAST-MODIFIED:20250727T132306Z
UID:9741-1753884000-1753887600@www.ourladyofmercynl.com
SUMMARY:Music in the Church
DESCRIPTION:
URL:https://www.ourladyofmercynl.com/event/music-in-the-church-5/
LOCATION:Our Lady of Mercy\, 101 Main Street\, Aguathuna\, NL\, A0N 1A0\, Canada
ATTACH;FMTTYPE=image/jpeg:https://www.ourladyofmercynl.com/wp-content/uploads/2025/07/july-30-scaled.jpg
END:VEVENT
END:VCALENDAR