BEGIN:VCALENDAR
VERSION:2.0
PRODID:-//Our Lady of Mercy - ECPv6.15.15//NONSGML v1.0//EN
CALSCALE:GREGORIAN
METHOD:PUBLISH
X-WR-CALNAME:Our Lady of Mercy
X-ORIGINAL-URL:https://www.ourladyofmercynl.com
X-WR-CALDESC:Events for Our Lady of Mercy
REFRESH-INTERVAL;VALUE=DURATION:PT1H
X-Robots-Tag:noindex
X-PUBLISHED-TTL:PT1H
BEGIN:VTIMEZONE
TZID:UTC
BEGIN:STANDARD
TZOFFSETFROM:+0000
TZOFFSETTO:+0000
TZNAME:UTC
DTSTART:20240101T000000
END:STANDARD
END:VTIMEZONE
BEGIN:VEVENT
DTSTART;TZID=UTC:20251205T200000
DTEND;TZID=UTC:20251205T220000
DTSTAMP:20260421T175454
CREATED:20251116T170928Z
LAST-MODIFIED:20251116T171031Z
UID:9813-1764964800-1764972000@www.ourladyofmercynl.com
SUMMARY:Christmas Reunion
DESCRIPTION:Event Name: Christmas ReunionLocation: Our Lady of Mercy Event HallDate: Friday\, December 5Time: 8:00 PM – 10:00 PM \nThe holiday spirit is calling — and we’re answering with a night of music\, cheer\, and community! The long-awaited Christmas Reunion is back at Our Lady of Mercy Event Hall\, featuring a fantastic lineup of talented local performers ready to light up your evening. \nOnce the main show wraps\, stay for a 19+ dance and keep the celebration going! Tickets are only $30 and available now at Arlim’s or Debbie’s Video Shoppe & Party Express. Let’s make this Christmas one to remember! ❤️💫
URL:https://www.ourladyofmercynl.com/event/christmas-reunion/
LOCATION:Our Lady of Mercy\, 101 Main Street\, Aguathuna\, NL\, A0N 1A0\, Canada
ATTACH;FMTTYPE=image/jpeg:https://www.ourladyofmercynl.com/wp-content/uploads/2025/11/575102954_1125199379823109_3514177555804369647_n.jpg
END:VEVENT
BEGIN:VEVENT
DTSTART;TZID=UTC:20260201T080000
DTEND;TZID=UTC:20260530T170000
DTSTAMP:20260421T175454
CREATED:20260202T184125Z
LAST-MODIFIED:20260202T184532Z
UID:9817-1769932800-1780160400@www.ourladyofmercynl.com
SUMMARY:“Restoring Our Light – Window Fundraiser” (Stained Glass Windows)
DESCRIPTION:There’s something truly special about the way sunlight pours through stained glass — especially in a heritage church where every colour and detail tells a story. We’re launching a fundraising campaign to help restore the beautiful\, intricate stained-glass windows above the altar at Our Lady of Mercy Heritage Church & Museum. \nOur goal is to raise $60\,000\, and we’ll host a series of community fundraisers to help restore these treasured windows to their best. For local families and visitors who come to experience the warmth\, heritage\, and spirit of the Port au Port Peninsula. \n\nHow to Donate\nEvery contribution makes a difference — thank you for helping keep this heritage shining bright. \nE-Transfer (EMT)\nSend to: ourladyofmercycc@gmail.com \nMail a Cheque\nP.O. Box 39Aguathuna NL A0N 1A0 \n✅ Charitable donation receipt available: Please include your mailing address so we can send your receipt.
URL:https://www.ourladyofmercynl.com/event/restoring-our-light-window-fundraiser-stained-glass-windows/
LOCATION:Our Lady of Mercy\, 101 Main Street\, Aguathuna\, NL\, A0N 1A0\, Canada
ATTACH;FMTTYPE=image/jpeg:https://www.ourladyofmercynl.com/wp-content/uploads/2026/02/619820845_1186270267049353_7702851878934777235_n.jpg
END:VEVENT
BEGIN:VEVENT
DTSTART;TZID=UTC:20260201T080000
DTEND;TZID=UTC:20260530T170000
DTSTAMP:20260421T175454
CREATED:20260202T184326Z
LAST-MODIFIED:20260202T184710Z
UID:9822-1769932800-1780160400@www.ourladyofmercynl.com
SUMMARY:Spring Quilt Lottery
DESCRIPTION:First Fundraiser: Spring Quilt Lottery\n\nOur first fundraiser is now underway — and the prize is a gorgeous handmade quilt! \nEvent Name: Our Lady of Mercy Spring Quilt Lottery (“Charming Gems Quilt”)Location: 97 Main Street\, Port au Port WestDate: May 30\, 2026 (Draw Date)Time: TBA (to be announced) \nTickets\n$2 each or 3 for $5 \nGet Tickets From\n\nKathleen Lawlor\nSandra Hunt\nPhyllis Doucette\nElaine’s Variety
URL:https://www.ourladyofmercynl.com/event/spring-quilt-lottery/
LOCATION:Our Lady of Mercy\, 101 Main Street\, Aguathuna\, NL\, A0N 1A0\, Canada
ATTACH;FMTTYPE=image/jpeg:https://www.ourladyofmercynl.com/wp-content/uploads/2026/02/624336176_1190306466645733_1524881766539483395_n.jpg
END:VEVENT
END:VCALENDAR