BEGIN:VCALENDAR
VERSION:2.0
PRODID:-//Our Lady of Mercy - ECPv6.15.15//NONSGML v1.0//EN
CALSCALE:GREGORIAN
METHOD:PUBLISH
X-ORIGINAL-URL:https://www.ourladyofmercynl.com
X-WR-CALDESC:Events for Our Lady of Mercy
REFRESH-INTERVAL;VALUE=DURATION:PT1H
X-Robots-Tag:noindex
X-PUBLISHED-TTL:PT1H
BEGIN:VTIMEZONE
TZID:UTC
BEGIN:STANDARD
TZOFFSETFROM:+0000
TZOFFSETTO:+0000
TZNAME:UTC
DTSTART:20240101T000000
END:STANDARD
END:VTIMEZONE
BEGIN:VEVENT
DTSTART;TZID=UTC:20251003T160000
DTEND;TZID=UTC:20251003T170000
DTSTAMP:20260421T130124
CREATED:20250920T005206Z
LAST-MODIFIED:20250920T005206Z
UID:9793-1759507200-1759510800@www.ourladyofmercynl.com
SUMMARY:Blessing of the Animals
DESCRIPTION:🐶🐱🐰 Bring your furry (or feathered!) friends for a special Blessing of the Animals with Father Joseph. \n📅 Date: Friday\, October 3\, 2025🕓 Time: 4:00 PM (note the new time — after school so children can attend!)📍 Location: Our Lady of Mercy Church\, Port au Port West \nAll are welcome! Please ensure animals are on a leash or in a cage for everyone’s safety. 💙 \nLet’s celebrate the joy and companionship our pets bring to our lives. 🐾✨
URL:https://www.ourladyofmercynl.com/event/blessing-of-the-animals/
LOCATION:Our Lady of Mercy\, 101 Main Street\, Aguathuna\, NL\, A0N 1A0\, Canada
ATTACH;FMTTYPE=image/jpeg:https://www.ourladyofmercynl.com/wp-content/uploads/2025/09/550195845_1083887947287586_3996883543560119565_n.jpg
END:VEVENT
END:VCALENDAR