BEGIN:VCALENDAR
VERSION:2.0
PRODID:-//Our Lady of Mercy - ECPv6.15.15//NONSGML v1.0//EN
CALSCALE:GREGORIAN
METHOD:PUBLISH
X-WR-CALNAME:Our Lady of Mercy
X-ORIGINAL-URL:https://www.ourladyofmercynl.com
X-WR-CALDESC:Events for Our Lady of Mercy
REFRESH-INTERVAL;VALUE=DURATION:PT1H
X-Robots-Tag:noindex
X-PUBLISHED-TTL:PT1H
BEGIN:VTIMEZONE
TZID:UTC
BEGIN:STANDARD
TZOFFSETFROM:+0000
TZOFFSETTO:+0000
TZNAME:UTC
DTSTART:20240101T000000
END:STANDARD
END:VTIMEZONE
BEGIN:VEVENT
DTSTART;TZID=UTC:20250927T100000
DTEND;TZID=UTC:20250928T160000
DTSTAMP:20260421T131234
CREATED:20250907T134352Z
LAST-MODIFIED:20250920T003424Z
UID:9772-1758967200-1759075200@www.ourladyofmercynl.com
SUMMARY:Agriculture & Craft Fall Fair
DESCRIPTION:🍂✨ Fall is in the air\, and so is community spirit! ✨🍂 \nJoin us at the Agriculture & Craft Fall Fair at the Our Lady of Mercy Complex for a weekend full of local flavour and creativity. \nBrowse handmade crafts\, discover unique treasures\, and celebrate the best of Newfoundland’s harvest season. From fresh goods to beautiful artisan work\, there’s something for everyone to enjoy! Bring your family\, meet your neighbours\, and support the amazing local talent that makes our community shine. \n📍 Location: Our Lady of Mercy Complex📅 Date: Saturday\, September 27 & Sunday\, Sunday\, September 28🕙 Time: Saturday 10am–4pm | Sunday 12pm–4pm \n🍁 Don’t miss out on this fall tradition — shop\, taste\, and celebrate all things Newfoundland! \n#NewfoundlandFall #CraftNL #SupportLocalNL #NLCulture
URL:https://www.ourladyofmercynl.com/event/agriculture-craft-fall-fair/
LOCATION:Our Lady of Mercy\, 101 Main Street\, Aguathuna\, NL\, A0N 1A0\, Canada
ATTACH;FMTTYPE=image/jpeg:https://www.ourladyofmercynl.com/wp-content/uploads/2025/09/548216847_10163065148926335_7968929029955993012_n.jpg
END:VEVENT
END:VCALENDAR