BEGIN:VCALENDAR
VERSION:2.0
PRODID:-//Our Lady of Mercy - ECPv6.15.15//NONSGML v1.0//EN
CALSCALE:GREGORIAN
METHOD:PUBLISH
X-WR-CALNAME:Our Lady of Mercy
X-ORIGINAL-URL:https://www.ourladyofmercynl.com
X-WR-CALDESC:Events for Our Lady of Mercy
REFRESH-INTERVAL;VALUE=DURATION:PT1H
X-Robots-Tag:noindex
X-PUBLISHED-TTL:PT1H
BEGIN:VTIMEZONE
TZID:UTC
BEGIN:STANDARD
TZOFFSETFROM:+0000
TZOFFSETTO:+0000
TZNAME:UTC
DTSTART:20240101T000000
END:STANDARD
END:VTIMEZONE
BEGIN:VEVENT
DTSTART;TZID=UTC:20250907T080000
DTEND;TZID=UTC:20250907T170000
DTSTAMP:20260421T131214
CREATED:20250907T135443Z
LAST-MODIFIED:20250907T135540Z
UID:9778-1757232000-1757264400@www.ourladyofmercynl.com
SUMMARY:On The Journey
DESCRIPTION:🌟 On The Journey 🌟A night of dazzling performances\, community spirit\, and support for youth in the arts! \nJoin us for a Fundraiser Showcase & Silent Auction presented by Nomad Stages. Be inspired by stunning dance numbers and powerful musical theatre moments\, while supporting young performers chasing their dreams. \n📍 Location: Our Lady of Mercy Event Hall\, Port au Port📅 Date: Friday\, September 13🕖 Time: 7:00 PM💲 Admission: Pay What You Can \n🎭 Event Highlights:✨ Live performances from talented youth✨ Local vendor silent auction✨ A chance to support performing arts in our community \n🎟 Tickets: tickettailor.com/events/alasuinukperformingartsfoundation \nCome for the performances\, stay for the community connection. This will be a night to remember! 💃🎶 \n#SupportTheArtsNL #PortauPortEvents #NLCulture #CommunitySpiritNL
URL:https://www.ourladyofmercynl.com/event/on-the-journey/
LOCATION:Our Lady of Mercy\, 101 Main Street\, Aguathuna\, NL\, A0N 1A0\, Canada
ATTACH;FMTTYPE=image/jpeg:https://www.ourladyofmercynl.com/wp-content/uploads/2025/09/542760771_1074497924893255_4158651121953830233_n.jpg
END:VEVENT
END:VCALENDAR