BEGIN:VCALENDAR
VERSION:2.0
PRODID:-//Our Lady of Mercy - ECPv6.15.15//NONSGML v1.0//EN
CALSCALE:GREGORIAN
METHOD:PUBLISH
X-ORIGINAL-URL:https://www.ourladyofmercynl.com
X-WR-CALDESC:Events for Our Lady of Mercy
REFRESH-INTERVAL;VALUE=DURATION:PT1H
X-Robots-Tag:noindex
X-PUBLISHED-TTL:PT1H
BEGIN:VTIMEZONE
TZID:UTC
BEGIN:STANDARD
TZOFFSETFROM:+0000
TZOFFSETTO:+0000
TZNAME:UTC
DTSTART:20240101T000000
END:STANDARD
END:VTIMEZONE
BEGIN:VEVENT
DTSTART;VALUE=DATE:20250821
DTEND;VALUE=DATE:20250825
DTSTAMP:20260421T111557
CREATED:20250727T132545Z
LAST-MODIFIED:20250727T132545Z
UID:9745-1755734400-1756079999@www.ourladyofmercynl.com
SUMMARY:Raise the Roof
DESCRIPTION:
URL:https://www.ourladyofmercynl.com/event/raise-the-roof/
LOCATION:Our Lady of Mercy\, 101 Main Street\, Aguathuna\, NL\, A0N 1A0\, Canada
ATTACH;FMTTYPE=image/jpeg:https://www.ourladyofmercynl.com/wp-content/uploads/2025/07/Night-Music-Flyer-scaled.jpg
END:VEVENT
BEGIN:VEVENT
DTSTART;TZID=UTC:20250822T140000
DTEND;TZID=UTC:20250822T150000
DTSTAMP:20260421T111557
CREATED:20250818T213824Z
LAST-MODIFIED:20250818T213824Z
UID:9752-1755871200-1755874800@www.ourladyofmercynl.com
SUMMARY:Music in the Church
DESCRIPTION:
URL:https://www.ourladyofmercynl.com/event/music-in-the-church-8/
LOCATION:Our Lady of Mercy\, 101 Main Street\, Aguathuna\, NL\, A0N 1A0\, Canada
ATTACH;FMTTYPE=image/jpeg:https://www.ourladyofmercynl.com/wp-content/uploads/2025/08/536276382_1435718498115429_7576092482411777329_n.jpg
END:VEVENT
BEGIN:VEVENT
DTSTART;TZID=UTC:20250822T200000
DTEND;TZID=UTC:20250822T220000
DTSTAMP:20260421T111557
CREATED:20250818T214125Z
LAST-MODIFIED:20250818T214318Z
UID:9755-1755892800-1755900000@www.ourladyofmercynl.com
SUMMARY:Roblos Rock
DESCRIPTION:
URL:https://www.ourladyofmercynl.com/event/roblos-rock/
LOCATION:Our Lady of Mercy\, 101 Main Street\, Aguathuna\, NL\, A0N 1A0\, Canada
ATTACH;FMTTYPE=image/jpeg:https://www.ourladyofmercynl.com/wp-content/uploads/2025/08/535520359_1061092286233819_6007594983557161002_n.jpg
END:VEVENT
END:VCALENDAR